BEGIN:VCALENDAR
VERSION:2.0
PRODID:-//Al Zaytun - ECPv6.15.11//NONSGML v1.0//EN
CALSCALE:GREGORIAN
METHOD:PUBLISH
X-ORIGINAL-URL:https://alzaytun.es
X-WR-CALDESC:Eventos para Al Zaytun
REFRESH-INTERVAL;VALUE=DURATION:PT1H
X-Robots-Tag:noindex
X-PUBLISHED-TTL:PT1H
BEGIN:VTIMEZONE
TZID:Europe/Madrid
BEGIN:DAYLIGHT
TZOFFSETFROM:+0100
TZOFFSETTO:+0200
TZNAME:CEST
DTSTART:20250330T010000
END:DAYLIGHT
BEGIN:STANDARD
TZOFFSETFROM:+0200
TZOFFSETTO:+0100
TZNAME:CET
DTSTART:20251026T010000
END:STANDARD
BEGIN:DAYLIGHT
TZOFFSETFROM:+0100
TZOFFSETTO:+0200
TZNAME:CEST
DTSTART:20260329T010000
END:DAYLIGHT
BEGIN:STANDARD
TZOFFSETFROM:+0200
TZOFFSETTO:+0100
TZNAME:CET
DTSTART:20261025T010000
END:STANDARD
BEGIN:DAYLIGHT
TZOFFSETFROM:+0100
TZOFFSETTO:+0200
TZNAME:CEST
DTSTART:20270328T010000
END:DAYLIGHT
BEGIN:STANDARD
TZOFFSETFROM:+0200
TZOFFSETTO:+0100
TZNAME:CET
DTSTART:20271031T010000
END:STANDARD
END:VTIMEZONE
BEGIN:VEVENT
DTSTART;TZID=Europe/Madrid:20260315T100000
DTEND;TZID=Europe/Madrid:20260315T140000
DTSTAMP:20260419T221036
CREATED:20260314T090026Z
LAST-MODIFIED:20260302T211356Z
UID:2871-1773568800-1773583200@alzaytun.es
SUMMARY:Taller de cerámica
DESCRIPTION:Descubre con nosotros porque la cerámica ha estado unida a la evolución del ser humano desde el principio de los tiempos. Aprenderás las técnicas básicas de construcción manual y podrás realizar tus proyectos personales. Desarrolla tu creatividad a través del barro\, los engobes y los esmaltes. Todos los materiales y horneados están incluidos (máximo 2 kilos de arcilla).  \n\n\n\nLas piezas que realices en el taller estarán listas para ser recogidas pasadas dos semanas desde su creación. Utilizamos gres de media temperatura y esmaltes y engobes para uso utilitario aptos para lavavajillas. \n\n\n\nNo es necesaria experiencia previa.  \n\n\n\nSi tienes alguna duda contacta con nosotros por favor\, estaremos encantados de ayudarte.
URL:https://alzaytun.es/event/taller-de-ceramica/
LOCATION:Estudio Cerámica Al Zaytun\, Paseo del Sol 4\, Canillas de Aceituno\, Málaga\, 29716\, Spain
CATEGORIES:Taller Cerámica
ATTACH;FMTTYPE=image/jpeg:https://alzaytun.es/wp-content/uploads/2024/02/LTJ_8328.jpg
END:VEVENT
END:VCALENDAR