BEGIN:VCALENDAR
VERSION:2.0
PRODID:-//Al Zaytun - ECPv6.15.11//NONSGML v1.0//EN
CALSCALE:GREGORIAN
METHOD:PUBLISH
X-WR-CALNAME:Al Zaytun
X-ORIGINAL-URL:https://alzaytun.es
X-WR-CALDESC:Eventos para Al Zaytun
REFRESH-INTERVAL;VALUE=DURATION:PT1H
X-Robots-Tag:noindex
X-PUBLISHED-TTL:PT1H
BEGIN:VTIMEZONE
TZID:Europe/Madrid
BEGIN:DAYLIGHT
TZOFFSETFROM:+0100
TZOFFSETTO:+0200
TZNAME:CEST
DTSTART:20250330T010000
END:DAYLIGHT
BEGIN:STANDARD
TZOFFSETFROM:+0200
TZOFFSETTO:+0100
TZNAME:CET
DTSTART:20251026T010000
END:STANDARD
BEGIN:DAYLIGHT
TZOFFSETFROM:+0100
TZOFFSETTO:+0200
TZNAME:CEST
DTSTART:20260329T010000
END:DAYLIGHT
BEGIN:STANDARD
TZOFFSETFROM:+0200
TZOFFSETTO:+0100
TZNAME:CET
DTSTART:20261025T010000
END:STANDARD
BEGIN:DAYLIGHT
TZOFFSETFROM:+0100
TZOFFSETTO:+0200
TZNAME:CEST
DTSTART:20270328T010000
END:DAYLIGHT
BEGIN:STANDARD
TZOFFSETFROM:+0200
TZOFFSETTO:+0100
TZNAME:CET
DTSTART:20271031T010000
END:STANDARD
END:VTIMEZONE
BEGIN:VEVENT
DTSTART;TZID=Europe/Madrid:20260116T100000
DTEND;TZID=Europe/Madrid:20260116T140000
DTSTAMP:20260420T082153
CREATED:20251207T205022Z
LAST-MODIFIED:20251211T172824Z
UID:2742-1768557600-1768572000@alzaytun.es
SUMMARY:Taller cerámica
DESCRIPTION:  \n \nDescubre con nosotros porque la cerámica ha estado unida a la evolución del ser humano desde el principio de los tiempos. Aprenderás las técnicas básicas de construcción manual y podrás realizar tus proyectos personales. Desarrolla tu creatividad a través del barro\, los engobes y los esmaltes. Todos los materiales y horneados están incluidos (máximo 2 kilos de arcilla).  \nLas piezas que realices en el taller estarán listas para ser recogidas pasadas dos semanas desde su creación. Utilizamos gres de media temperatura y esmaltes y engobes para uso utilitario aptos para lavavajillas. \nNo es necesaria experiencia previa.  \nSi tienes alguna duda contacta con nosotros por favor\, estaremos encantados de ayudarte. \n  \n 
URL:https://alzaytun.es/event/taller-ceramica-hecho-a-mano-artesania-malaga/
LOCATION:Estudio Al Zaytun\, Pº del Sol 4\, Canillas de Aceituno\, Málaga\, 29716\, España
CATEGORIES:Taller Cerámica
ATTACH;FMTTYPE=image/jpeg:https://alzaytun.es/wp-content/uploads/2025/12/AIRBNB_MALAGA_1284-scaled.jpg
END:VEVENT
END:VCALENDAR