BEGIN:VCALENDAR
VERSION:2.0
PRODID:-//Al Zaytun - ECPv6.15.11//NONSGML v1.0//EN
CALSCALE:GREGORIAN
METHOD:PUBLISH
X-ORIGINAL-URL:https://alzaytun.es
X-WR-CALDESC:Eventos para Al Zaytun
REFRESH-INTERVAL;VALUE=DURATION:PT1H
X-Robots-Tag:noindex
X-PUBLISHED-TTL:PT1H
BEGIN:VTIMEZONE
TZID:Europe/Madrid
BEGIN:DAYLIGHT
TZOFFSETFROM:+0100
TZOFFSETTO:+0200
TZNAME:CEST
DTSTART:20250330T010000
END:DAYLIGHT
BEGIN:STANDARD
TZOFFSETFROM:+0200
TZOFFSETTO:+0100
TZNAME:CET
DTSTART:20251026T010000
END:STANDARD
BEGIN:DAYLIGHT
TZOFFSETFROM:+0100
TZOFFSETTO:+0200
TZNAME:CEST
DTSTART:20260329T010000
END:DAYLIGHT
BEGIN:STANDARD
TZOFFSETFROM:+0200
TZOFFSETTO:+0100
TZNAME:CET
DTSTART:20261025T010000
END:STANDARD
BEGIN:DAYLIGHT
TZOFFSETFROM:+0100
TZOFFSETTO:+0200
TZNAME:CEST
DTSTART:20270328T010000
END:DAYLIGHT
BEGIN:STANDARD
TZOFFSETFROM:+0200
TZOFFSETTO:+0100
TZNAME:CET
DTSTART:20271031T010000
END:STANDARD
END:VTIMEZONE
BEGIN:VEVENT
DTSTART;TZID=Europe/Madrid:20260307T090000
DTEND;TZID=Europe/Madrid:20260307T140000
DTSTAMP:20260419T183500
CREATED:20260302T202249Z
LAST-MODIFIED:20260302T210157Z
UID:2849-1772874000-1772892000@alzaytun.es
SUMMARY:Ciclo Formativo "Materia Viva" CAL
DESCRIPTION:«Materia viva» es un ciclo de tres talleres monográficos en la Axarquía que abordan cal\, arcilla y trabadillo. Jornadas prácticas diseñadas para perder el miedo al material y recuperar la técnica constructiva vernácula.\n\n\n\n\n\n\nEn este taller desmitificamos el uso de la cal y explicamos por qué es un material único capaz de sanar un edificio enfermo. \n\n\n\nContenido técnicoEl ciclo de la cal\, diferencias entre aérea e hidráulica\, carbonatación y transpirabilidad. Formulación básica de morteros. \n\n\n\nPrácticaFormulación de morteros bases y finos\, aplicación de enlucidos\, iniciación a los estucos y prácticas decorativas (fresco\, esgrafiado\, veladuras…).
URL:https://alzaytun.es/event/ciclo-formativo-materia-viva-cal-2/
LOCATION:Málaga
CATEGORIES:Taller Construcción Tradicional
ATTACH;FMTTYPE=image/webp:https://alzaytun.es/wp-content/uploads/2026/03/textura-cal-aerea-blanco-mate.CG9lvw9c_2iz07A.webp
END:VEVENT
END:VCALENDAR